BEGIN:VCALENDAR
VERSION:2.0
PRODID:-//Diócesis de Tacuarembó - ECPv6.15.20//NONSGML v1.0//EN
CALSCALE:GREGORIAN
METHOD:PUBLISH
X-ORIGINAL-URL:https://diocesisdetacuarembo.org.uy
X-WR-CALDESC:Eventos para Diócesis de Tacuarembó
REFRESH-INTERVAL;VALUE=DURATION:PT1H
X-Robots-Tag:noindex
X-PUBLISHED-TTL:PT1H
BEGIN:VTIMEZONE
TZID:UTC
BEGIN:STANDARD
TZOFFSETFROM:+0000
TZOFFSETTO:+0000
TZNAME:UTC
DTSTART:20250101T000000
END:STANDARD
END:VTIMEZONE
BEGIN:VEVENT
DTSTART;VALUE=DATE:20261003
DTEND;VALUE=DATE:20261005
DTSTAMP:20260421T124109
CREATED:20260109T000145Z
LAST-MODIFIED:20260109T000508Z
UID:394-1790985600-1791158399@diocesisdetacuarembo.org.uy
SUMMARY:2° Fondo Común Diocesano
DESCRIPTION:
URL:https://diocesisdetacuarembo.org.uy/event/2-fondo-comun-diocesano/
CATEGORIES:Colectas
END:VEVENT
BEGIN:VEVENT
DTSTART;VALUE=DATE:20261018
DTEND;VALUE=DATE:20261019
DTSTAMP:20260421T124109
CREATED:20260109T000234Z
LAST-MODIFIED:20260109T000529Z
UID:396-1792281600-1792367999@diocesisdetacuarembo.org.uy
SUMMARY:Domund
DESCRIPTION:
URL:https://diocesisdetacuarembo.org.uy/event/domund/
CATEGORIES:Colectas
END:VEVENT
END:VCALENDAR