BEGIN:VCALENDAR
VERSION:2.0
PRODID:-//Diócesis de Tacuarembó - ECPv6.15.20//NONSGML v1.0//EN
CALSCALE:GREGORIAN
METHOD:PUBLISH
X-ORIGINAL-URL:https://diocesisdetacuarembo.org.uy
X-WR-CALDESC:Eventos para Diócesis de Tacuarembó
REFRESH-INTERVAL;VALUE=DURATION:PT1H
X-Robots-Tag:noindex
X-PUBLISHED-TTL:PT1H
BEGIN:VTIMEZONE
TZID:UTC
BEGIN:STANDARD
TZOFFSETFROM:+0000
TZOFFSETTO:+0000
TZNAME:UTC
DTSTART:20250101T000000
END:STANDARD
END:VTIMEZONE
BEGIN:VEVENT
DTSTART;VALUE=DATE:20261022
DTEND;VALUE=DATE:20261023
DTSTAMP:20260419T121518
CREATED:20260115T194038Z
LAST-MODIFIED:20260115T194038Z
UID:484-1792627200-1792713599@diocesisdetacuarembo.org.uy
SUMMARY:66 años de la Creación de la Diócesis
DESCRIPTION:
URL:https://diocesisdetacuarembo.org.uy/event/66-anos-de-la-creacion-de-la-diocesis/
CATEGORIES:Jornadas
END:VEVENT
BEGIN:VEVENT
DTSTART;VALUE=DATE:20261025
DTEND;VALUE=DATE:20261026
DTSTAMP:20260419T121518
CREATED:20260115T194059Z
LAST-MODIFIED:20260115T194059Z
UID:486-1792886400-1792972799@diocesisdetacuarembo.org.uy
SUMMARY:Asamblea Diocesana – Día de la Diócesis
DESCRIPTION:
URL:https://diocesisdetacuarembo.org.uy/event/asamblea-diocesana-dia-de-la-diocesis/
CATEGORIES:Jornadas
END:VEVENT
END:VCALENDAR