BEGIN:VCALENDAR
VERSION:2.0
PRODID:-//Diócesis de Tacuarembó - ECPv6.15.20//NONSGML v1.0//EN
CALSCALE:GREGORIAN
METHOD:PUBLISH
X-WR-CALNAME:Diócesis de Tacuarembó
X-ORIGINAL-URL:https://diocesisdetacuarembo.org.uy
X-WR-CALDESC:Eventos para Diócesis de Tacuarembó
REFRESH-INTERVAL;VALUE=DURATION:PT1H
X-Robots-Tag:noindex
X-PUBLISHED-TTL:PT1H
BEGIN:VTIMEZONE
TZID:UTC
BEGIN:STANDARD
TZOFFSETFROM:+0000
TZOFFSETTO:+0000
TZNAME:UTC
DTSTART:20250101T000000
END:STANDARD
END:VTIMEZONE
BEGIN:VEVENT
DTSTART;VALUE=DATE:20261211
DTEND;VALUE=DATE:20261212
DTSTAMP:20260419T152630
CREATED:20260115T194450Z
LAST-MODIFIED:20260115T194450Z
UID:494-1796947200-1797033599@diocesisdetacuarembo.org.uy
SUMMARY:Peregrinación Virgen de Itatí
DESCRIPTION:
URL:https://diocesisdetacuarembo.org.uy/event/peregrinacion-virgen-de-itati/
CATEGORIES:Jornadas
END:VEVENT
BEGIN:VEVENT
DTSTART;VALUE=DATE:20261212
DTEND;VALUE=DATE:20261214
DTSTAMP:20260419T152630
CREATED:20260115T194519Z
LAST-MODIFIED:20260115T194519Z
UID:496-1797033600-1797206399@diocesisdetacuarembo.org.uy
SUMMARY:Fiesta de la Virgen de Itatí – Villa Ansina
DESCRIPTION:
URL:https://diocesisdetacuarembo.org.uy/event/fiesta-de-la-virgen-de-itati-villa-ansina/
CATEGORIES:Jornadas
END:VEVENT
END:VCALENDAR