BEGIN:VCALENDAR
VERSION:2.0
PRODID:-//Diócesis de Tacuarembó - ECPv6.15.20//NONSGML v1.0//EN
CALSCALE:GREGORIAN
METHOD:PUBLISH
X-ORIGINAL-URL:https://diocesisdetacuarembo.org.uy
X-WR-CALDESC:Eventos para Diócesis de Tacuarembó
REFRESH-INTERVAL;VALUE=DURATION:PT1H
X-Robots-Tag:noindex
X-PUBLISHED-TTL:PT1H
BEGIN:VTIMEZONE
TZID:UTC
BEGIN:STANDARD
TZOFFSETFROM:+0000
TZOFFSETTO:+0000
TZNAME:UTC
DTSTART:20250101T000000
END:STANDARD
END:VTIMEZONE
BEGIN:VEVENT
DTSTART;VALUE=DATE:20261104
DTEND;VALUE=DATE:20261105
DTSTAMP:20260419T171032
CREATED:20260108T212303Z
LAST-MODIFIED:20260108T213035Z
UID:334-1793750400-1793836799@diocesisdetacuarembo.org.uy
SUMMARY:CPZ Tacuarembó
DESCRIPTION:
URL:https://diocesisdetacuarembo.org.uy/event/4-11-cpz-tacuarembo/
CATEGORIES:CPZ
END:VEVENT
BEGIN:VEVENT
DTSTART;VALUE=DATE:20261112
DTEND;VALUE=DATE:20261113
DTSTAMP:20260419T171032
CREATED:20260108T212448Z
LAST-MODIFIED:20260108T213023Z
UID:336-1794441600-1794527999@diocesisdetacuarembo.org.uy
SUMMARY:CPZ Rivera
DESCRIPTION:
URL:https://diocesisdetacuarembo.org.uy/event/12-11-cpz-rivera/
CATEGORIES:CPZ
END:VEVENT
BEGIN:VEVENT
DTSTART;VALUE=DATE:20261127
DTEND;VALUE=DATE:20261128
DTSTAMP:20260419T171032
CREATED:20260108T212630Z
LAST-MODIFIED:20260108T213012Z
UID:338-1795737600-1795823999@diocesisdetacuarembo.org.uy
SUMMARY:CPZ R. Norte
DESCRIPTION:
URL:https://diocesisdetacuarembo.org.uy/event/27-11-cpz-r-norte/
CATEGORIES:CPZ
END:VEVENT
END:VCALENDAR