BEGIN:VCALENDAR
VERSION:2.0
PRODID:-//Diócesis de Tacuarembó - ECPv6.15.20//NONSGML v1.0//EN
CALSCALE:GREGORIAN
METHOD:PUBLISH
X-WR-CALNAME:Diócesis de Tacuarembó
X-ORIGINAL-URL:https://diocesisdetacuarembo.org.uy
X-WR-CALDESC:Eventos para Diócesis de Tacuarembó
REFRESH-INTERVAL;VALUE=DURATION:PT1H
X-Robots-Tag:noindex
X-PUBLISHED-TTL:PT1H
BEGIN:VTIMEZONE
TZID:UTC
BEGIN:STANDARD
TZOFFSETFROM:+0000
TZOFFSETTO:+0000
TZNAME:UTC
DTSTART:20250101T000000
END:STANDARD
END:VTIMEZONE
BEGIN:VEVENT
DTSTART;VALUE=DATE:20261101
DTEND;VALUE=DATE:20261102
DTSTAMP:20260421T121949
CREATED:20260108T185222Z
LAST-MODIFIED:20260108T192808Z
UID:274-1793491200-1793577599@diocesisdetacuarembo.org.uy
SUMMARY:Todos los Santos
DESCRIPTION:11/1/2026
URL:https://diocesisdetacuarembo.org.uy/event/todos-los-santos/
CATEGORIES:Liturgia
END:VEVENT
BEGIN:VEVENT
DTSTART;VALUE=DATE:20261102
DTEND;VALUE=DATE:20261103
DTSTAMP:20260421T121949
CREATED:20260108T185315Z
LAST-MODIFIED:20260108T192833Z
UID:276-1793577600-1793663999@diocesisdetacuarembo.org.uy
SUMMARY:Conmemoración de los fieles difuntos
DESCRIPTION:11/2/2026
URL:https://diocesisdetacuarembo.org.uy/event/conmemoracion-de-los-fieles-difuntos/
CATEGORIES:Liturgia
END:VEVENT
BEGIN:VEVENT
DTSTART;VALUE=DATE:20261104
DTEND;VALUE=DATE:20261105
DTSTAMP:20260421T121949
CREATED:20260108T212303Z
LAST-MODIFIED:20260108T213035Z
UID:334-1793750400-1793836799@diocesisdetacuarembo.org.uy
SUMMARY:CPZ Tacuarembó
DESCRIPTION:
URL:https://diocesisdetacuarembo.org.uy/event/4-11-cpz-tacuarembo/
CATEGORIES:CPZ
END:VEVENT
BEGIN:VEVENT
DTSTART;VALUE=DATE:20261104
DTEND;VALUE=DATE:20261112
DTSTAMP:20260421T121949
CREATED:20260108T234613Z
LAST-MODIFIED:20260108T235316Z
UID:378-1793750400-1794441599@diocesisdetacuarembo.org.uy
SUMMARY:CEU
DESCRIPTION:
URL:https://diocesisdetacuarembo.org.uy/event/ceu/
CATEGORIES:CEU
END:VEVENT
BEGIN:VEVENT
DTSTART;VALUE=DATE:20261108
DTEND;VALUE=DATE:20261109
DTSTAMP:20260421T121949
CREATED:20260108T185416Z
LAST-MODIFIED:20260108T192855Z
UID:278-1794096000-1794182399@diocesisdetacuarembo.org.uy
SUMMARY:Virgen de los Treinta y Tres
DESCRIPTION:11/8/2026
URL:https://diocesisdetacuarembo.org.uy/event/virgen-de-los-treinta-y-tres/
CATEGORIES:Liturgia
END:VEVENT
BEGIN:VEVENT
DTSTART;VALUE=DATE:20261108
DTEND;VALUE=DATE:20261109
DTSTAMP:20260421T121949
CREATED:20260115T194323Z
LAST-MODIFIED:20260115T194323Z
UID:490-1794096000-1794182399@diocesisdetacuarembo.org.uy
SUMMARY:Peregrinación nacional a La Virgen de los Treinta y Tres
DESCRIPTION:
URL:https://diocesisdetacuarembo.org.uy/event/peregrinacion-nacional-a-la-virgen-de-los-treinta-y-tres/
CATEGORIES:Jornadas
END:VEVENT
BEGIN:VEVENT
DTSTART;VALUE=DATE:20261112
DTEND;VALUE=DATE:20261113
DTSTAMP:20260421T121949
CREATED:20260108T212448Z
LAST-MODIFIED:20260108T213023Z
UID:336-1794441600-1794527999@diocesisdetacuarembo.org.uy
SUMMARY:CPZ Rivera
DESCRIPTION:
URL:https://diocesisdetacuarembo.org.uy/event/12-11-cpz-rivera/
CATEGORIES:CPZ
END:VEVENT
BEGIN:VEVENT
DTSTART;VALUE=DATE:20261116
DTEND;VALUE=DATE:20261118
DTSTAMP:20260421T121949
CREATED:20260108T233541Z
LAST-MODIFIED:20260115T194301Z
UID:376-1794787200-1794959999@diocesisdetacuarembo.org.uy
SUMMARY:Presbiterio
DESCRIPTION:
URL:https://diocesisdetacuarembo.org.uy/event/presbiterio-4/
CATEGORIES:Presbiterio
END:VEVENT
BEGIN:VEVENT
DTSTART;VALUE=DATE:20261119
DTEND;VALUE=DATE:20261120
DTSTAMP:20260421T121949
CREATED:20260115T194351Z
LAST-MODIFIED:20260115T194351Z
UID:492-1795046400-1795132799@diocesisdetacuarembo.org.uy
SUMMARY:Vicaría
DESCRIPTION:
URL:https://diocesisdetacuarembo.org.uy/event/vicaria-6/
CATEGORIES:Vicaría
END:VEVENT
BEGIN:VEVENT
DTSTART;VALUE=DATE:20261121
DTEND;VALUE=DATE:20261122
DTSTAMP:20260421T121949
CREATED:20260108T185504Z
LAST-MODIFIED:20260108T192915Z
UID:280-1795219200-1795305599@diocesisdetacuarembo.org.uy
SUMMARY:Presentación de la Virgen
DESCRIPTION:11/21/2026
URL:https://diocesisdetacuarembo.org.uy/event/presentacion-de-la-virgen/
CATEGORIES:Liturgia
END:VEVENT
BEGIN:VEVENT
DTSTART;VALUE=DATE:20261122
DTEND;VALUE=DATE:20261123
DTSTAMP:20260421T121949
CREATED:20260108T185603Z
LAST-MODIFIED:20260108T192942Z
UID:282-1795305600-1795391999@diocesisdetacuarembo.org.uy
SUMMARY:Cristo Rey
DESCRIPTION:11/22/2026
URL:https://diocesisdetacuarembo.org.uy/event/cristo-rey/
CATEGORIES:Liturgia
END:VEVENT
BEGIN:VEVENT
DTSTART;VALUE=DATE:20261127
DTEND;VALUE=DATE:20261128
DTSTAMP:20260421T121949
CREATED:20260108T212630Z
LAST-MODIFIED:20260108T213012Z
UID:338-1795737600-1795823999@diocesisdetacuarembo.org.uy
SUMMARY:CPZ R. Norte
DESCRIPTION:
URL:https://diocesisdetacuarembo.org.uy/event/27-11-cpz-r-norte/
CATEGORIES:CPZ
END:VEVENT
BEGIN:VEVENT
DTSTART;VALUE=DATE:20261127
DTEND;VALUE=DATE:20261128
DTSTAMP:20260421T121949
CREATED:20260108T193143Z
LAST-MODIFIED:20260108T193143Z
UID:287-1795737600-1795823999@diocesisdetacuarembo.org.uy
SUMMARY:Nuestra Señora de la Medalla Milagrosa
DESCRIPTION:
URL:https://diocesisdetacuarembo.org.uy/event/nuestra-senora-de-la-medalla-milagrosa/
CATEGORIES:Liturgia
END:VEVENT
BEGIN:VEVENT
DTSTART;VALUE=DATE:20261129
DTEND;VALUE=DATE:20261130
DTSTAMP:20260421T121949
CREATED:20260115T194215Z
LAST-MODIFIED:20260115T194215Z
UID:488-1795910400-1795996799@diocesisdetacuarembo.org.uy
SUMMARY:I Domingo de Adviento
DESCRIPTION:
URL:https://diocesisdetacuarembo.org.uy/event/i-domingo-de-adviento-2/
CATEGORIES:Liturgia
END:VEVENT
END:VCALENDAR